Package: SingleCellAlleleExperiment Version: 1.2.0 Command: F:\biocbuild\bbs-3.20-bioc\R\bin\R.exe CMD INSTALL SingleCellAlleleExperiment StartedAt: 2025-01-30 16:04:08 -0500 (Thu, 30 Jan 2025) EndedAt: 2025-01-30 16:07:43 -0500 (Thu, 30 Jan 2025) EllapsedTime: 214.5 seconds RetCode: 0 Status: OK