Package: SingleCellAlleleExperiment Version: 1.2.0 Command: chmod a+r SingleCellAlleleExperiment -R && F:\biocbuild\bbs-3.20-bioc\R\bin\R.exe CMD build --keep-empty-dirs --no-resave-data SingleCellAlleleExperiment StartedAt: 2025-01-30 21:55:26 -0500 (Thu, 30 Jan 2025) EndedAt: 2025-01-30 21:56:44 -0500 (Thu, 30 Jan 2025) EllapsedTime: 77.5 seconds RetCode: 1 Status: ERROR PackageFile: None PackageFileSize: NA