Package: ShortRead Version: 1.64.0 Command: /home/biocbuild/R/R/bin/R CMD check --install=check:ShortRead.install-out.txt --library=/home/biocbuild/R/R/site-library --no-vignettes --timings ShortRead_1.64.0.tar.gz StartedAt: 2025-01-31 10:25:04 -0000 (Fri, 31 Jan 2025) EndedAt: 2025-01-31 10:29:59 -0000 (Fri, 31 Jan 2025) EllapsedTime: 294.3 seconds RetCode: 1 Status: ERROR CheckDir: ShortRead.Rcheck Warnings: NA