Package: ShortRead Version: 1.64.0 Command: /home/biocbuild/R/R/bin/R CMD build --keep-empty-dirs --no-resave-data ShortRead StartedAt: 2025-01-31 02:43:12 -0000 (Fri, 31 Jan 2025) EndedAt: 2025-01-31 02:44:34 -0000 (Fri, 31 Jan 2025) EllapsedTime: 82.1 seconds RetCode: 0 Status: OK PackageFile: ShortRead_1.64.0.tar.gz PackageFileSize: 5.129 MiB