Package: ShortRead Version: 1.64.0 Command: F:\biocbuild\bbs-3.20-bioc\R\bin\R.exe CMD check --no-multiarch --install=check:ShortRead.install-out.txt --library=F:\biocbuild\bbs-3.20-bioc\R\library --no-vignettes --timings ShortRead_1.64.0.tar.gz StartedAt: 2025-01-31 06:28:09 -0500 (Fri, 31 Jan 2025) EndedAt: 2025-01-31 06:38:24 -0500 (Fri, 31 Jan 2025) EllapsedTime: 614.5 seconds RetCode: 0 Status: WARNINGS CheckDir: ShortRead.Rcheck Warnings: 1