Package: ShortRead Version: 1.64.0 Command: /Library/Frameworks/R.framework/Resources/bin/R CMD build --keep-empty-dirs --no-resave-data ShortRead StartedAt: 2025-01-30 22:53:26 -0500 (Thu, 30 Jan 2025) EndedAt: 2025-01-30 22:56:01 -0500 (Thu, 30 Jan 2025) EllapsedTime: 155.2 seconds RetCode: 0 Status: OK PackageFile: ShortRead_1.64.0.tar.gz PackageFileSize: 5.06 MiB