Package: ShortRead Version: 1.64.0 Command: /Library/Frameworks/R.framework/Resources/bin/R CMD check --install=check:ShortRead.install-out.txt --library=/Library/Frameworks/R.framework/Resources/library --no-vignettes --timings ShortRead_1.64.0.tar.gz StartedAt: 2025-02-01 09:19:25 -0500 (Sat, 01 Feb 2025) EndedAt: 2025-02-01 09:24:42 -0500 (Sat, 01 Feb 2025) EllapsedTime: 317.3 seconds RetCode: 0 Status: WARNINGS CheckDir: ShortRead.Rcheck Warnings: 2