Package: SeqSQC Version: 1.28.0 Command: /home/biocbuild/R/R/bin/R CMD check --install=check:SeqSQC.install-out.txt --library=/home/biocbuild/R/R/site-library --no-vignettes --timings SeqSQC_1.28.0.tar.gz StartedAt: 2025-01-31 10:22:13 -0000 (Fri, 31 Jan 2025) EndedAt: 2025-01-31 10:25:34 -0000 (Fri, 31 Jan 2025) EllapsedTime: 201.2 seconds RetCode: 0 Status: WARNINGS CheckDir: SeqSQC.Rcheck Warnings: 1