Package: SeqSQC Version: 1.28.0 Command: /Library/Frameworks/R.framework/Resources/bin/R CMD check --install=check:SeqSQC.install-out.txt --library=/Library/Frameworks/R.framework/Resources/library --no-vignettes --timings SeqSQC_1.28.0.tar.gz StartedAt: 2025-01-31 10:00:53 -0500 (Fri, 31 Jan 2025) EndedAt: 2025-01-31 10:06:54 -0500 (Fri, 31 Jan 2025) EllapsedTime: 360.7 seconds RetCode: 0 Status: WARNINGS CheckDir: SeqSQC.Rcheck Warnings: 1