Package: SeqSQC Version: 1.28.0 Command: /Library/Frameworks/R.framework/Resources/bin/R CMD build --keep-empty-dirs --no-resave-data SeqSQC StartedAt: 2025-01-30 22:51:04 -0500 (Thu, 30 Jan 2025) EndedAt: 2025-01-30 22:52:59 -0500 (Thu, 30 Jan 2025) EllapsedTime: 115.2 seconds RetCode: 0 Status: OK PackageFile: SeqSQC_1.28.0.tar.gz PackageFileSize: 4.529 MiB