Package: SeqSQC Version: 1.28.0 Command: rm -rf SeqSQC.buildbin-libdir && mkdir SeqSQC.buildbin-libdir && /Users/biocbuild/BBS/utils/build-universal.sh SeqSQC_1.28.0.tar.gz /Library/Frameworks/R.framework/Resources/bin/R SeqSQC.buildbin-libdir StartedAt: 2025-01-31 13:41:47 -0500 (Fri, 31 Jan 2025) EndedAt: 2025-01-31 13:42:38 -0500 (Fri, 31 Jan 2025) EllapsedTime: 50.5 seconds RetCode: 0 Status: OK PackageFile: SeqSQC_1.28.0.tgz PackageFileSize: 4.844 MiB