Package: SeqSQC Version: 1.28.0 Command: /Library/Frameworks/R.framework/Resources/bin/R CMD check --install=check:SeqSQC.install-out.txt --library=/Library/Frameworks/R.framework/Resources/library --no-vignettes --timings SeqSQC_1.28.0.tar.gz StartedAt: 2024-11-09 13:13:07 -0500 (Sat, 09 Nov 2024) EndedAt: 2024-11-09 13:17:55 -0500 (Sat, 09 Nov 2024) EllapsedTime: 287.8 seconds RetCode: 0 Status: WARNINGS CheckDir: SeqSQC.Rcheck Warnings: 1