Package: SeqSQC Version: 1.28.0 Command: /Library/Frameworks/R.framework/Resources/bin/R CMD check --install=check:SeqSQC.install-out.txt --library=/Library/Frameworks/R.framework/Resources/library --no-vignettes --timings SeqSQC_1.28.0.tar.gz StartedAt: 2025-02-01 09:09:09 -0500 (Sat, 01 Feb 2025) EndedAt: 2025-02-01 09:12:39 -0500 (Sat, 01 Feb 2025) EllapsedTime: 209.7 seconds RetCode: 0 Status: WARNINGS CheckDir: SeqSQC.Rcheck Warnings: 1