Package: SeqArray Version: 1.46.1 Command: /home/biocbuild/R/R/bin/R CMD check --install=check:SeqArray.install-out.txt --library=/home/biocbuild/R/R/site-library --no-vignettes --timings SeqArray_1.46.1.tar.gz StartedAt: 2025-01-31 10:20:39 -0000 (Fri, 31 Jan 2025) EndedAt: 2025-01-31 10:24:39 -0000 (Fri, 31 Jan 2025) EllapsedTime: 240.2 seconds RetCode: 0 Status: OK CheckDir: SeqArray.Rcheck Warnings: 0