Package: SeqArray Version: 1.46.1 Command: F:\biocbuild\bbs-3.20-bioc\R\bin\R.exe CMD INSTALL SeqArray StartedAt: 2025-01-30 15:36:33 -0500 (Thu, 30 Jan 2025) EndedAt: 2025-01-30 15:38:10 -0500 (Thu, 30 Jan 2025) EllapsedTime: 97.5 seconds RetCode: 0 Status: OK