Package: SeqArray Version: 1.46.1 Command: /home/biocbuild/bbs-3.20-bioc/R/bin/R CMD INSTALL SeqArray StartedAt: 2025-01-30 15:10:17 -0500 (Thu, 30 Jan 2025) EndedAt: 2025-01-30 15:10:57 -0500 (Thu, 30 Jan 2025) EllapsedTime: 39.9 seconds RetCode: 0 Status: OK