Package: SeqArray Version: 1.46.1 Command: /Library/Frameworks/R.framework/Resources/bin/R CMD build --keep-empty-dirs --no-resave-data SeqArray StartedAt: 2025-01-30 22:49:24 -0500 (Thu, 30 Jan 2025) EndedAt: 2025-01-30 22:53:26 -0500 (Thu, 30 Jan 2025) EllapsedTime: 241.9 seconds RetCode: 0 Status: OK PackageFile: SeqArray_1.46.1.tar.gz PackageFileSize: 3.695 MiB