Package: SeqArray Version: 1.46.1 Command: /Library/Frameworks/R.framework/Resources/bin/R CMD check --install=check:SeqArray.install-out.txt --library=/Library/Frameworks/R.framework/Resources/library --no-vignettes --timings SeqArray_1.46.1.tar.gz StartedAt: 2025-02-01 09:04:44 -0500 (Sat, 01 Feb 2025) EndedAt: 2025-02-01 09:09:00 -0500 (Sat, 01 Feb 2025) EllapsedTime: 256.1 seconds RetCode: 0 Status: OK CheckDir: SeqArray.Rcheck Warnings: 0