Package: Sconify Version: 1.26.0 Command: /home/biocbuild/R/R/bin/R CMD check --install=check:Sconify.install-out.txt --library=/home/biocbuild/R/R/site-library --no-vignettes --timings Sconify_1.26.0.tar.gz StartedAt: 2025-01-31 10:13:29 -0000 (Fri, 31 Jan 2025) EndedAt: 2025-01-31 10:15:32 -0000 (Fri, 31 Jan 2025) EllapsedTime: 123.1 seconds RetCode: 0 Status: OK CheckDir: Sconify.Rcheck Warnings: 0