Package: Scale4C Version: 1.28.0 Command: /Library/Frameworks/R.framework/Resources/bin/R CMD build --keep-empty-dirs --no-resave-data Scale4C StartedAt: 2025-01-31 07:05:11 -0500 (Fri, 31 Jan 2025) EndedAt: 2025-01-31 07:07:00 -0500 (Fri, 31 Jan 2025) EllapsedTime: 108.3 seconds RetCode: 0 Status: OK PackageFile: Scale4C_1.28.0.tar.gz PackageFileSize: 4.9 MiB