Package: SamSPECTRAL Version: 1.60.0 Command: /home/biocbuild/R/R/bin/R CMD INSTALL SamSPECTRAL StartedAt: 2025-01-30 20:08:34 -0000 (Thu, 30 Jan 2025) EndedAt: 2025-01-30 20:09:00 -0000 (Thu, 30 Jan 2025) EllapsedTime: 26.5 seconds RetCode: 0 Status: OK