Package: SamSPECTRAL Version: 1.60.0 Command: /home/biocbuild/R/R/bin/R CMD build --keep-empty-dirs --no-resave-data SamSPECTRAL StartedAt: 2025-01-31 02:22:15 -0000 (Fri, 31 Jan 2025) EndedAt: 2025-01-31 02:22:48 -0000 (Fri, 31 Jan 2025) EllapsedTime: 33.0 seconds RetCode: 0 Status: OK PackageFile: SamSPECTRAL_1.60.0.tar.gz PackageFileSize: 925.7 KiB