Package: SamSPECTRAL Version: 1.60.0 Command: chmod a+r SamSPECTRAL -R && F:\biocbuild\bbs-3.20-bioc\R\bin\R.exe CMD build --keep-empty-dirs --no-resave-data SamSPECTRAL StartedAt: 2025-01-30 21:34:55 -0500 (Thu, 30 Jan 2025) EndedAt: 2025-01-30 21:36:15 -0500 (Thu, 30 Jan 2025) EllapsedTime: 80.0 seconds RetCode: 0 Status: OK PackageFile: SamSPECTRAL_1.60.0.tar.gz PackageFileSize: 833.3 KiB