Package: SamSPECTRAL Version: 1.60.0 Command: /Library/Frameworks/R.framework/Resources/bin/R CMD check --install=check:SamSPECTRAL.install-out.txt --library=/Library/Frameworks/R.framework/Resources/library --no-vignettes --timings SamSPECTRAL_1.60.0.tar.gz StartedAt: 2025-01-31 09:24:54 -0500 (Fri, 31 Jan 2025) EndedAt: 2025-01-31 09:25:45 -0500 (Fri, 31 Jan 2025) EllapsedTime: 51.3 seconds RetCode: 0 Status: WARNINGS CheckDir: SamSPECTRAL.Rcheck Warnings: 1