Package: SamSPECTRAL Version: 1.60.0 Command: /Library/Frameworks/R.framework/Resources/bin/R CMD INSTALL SamSPECTRAL StartedAt: 2025-01-30 15:09:02 -0500 (Thu, 30 Jan 2025) EndedAt: 2025-01-30 15:09:06 -0500 (Thu, 30 Jan 2025) EllapsedTime: 4.0 seconds RetCode: 0 Status: OK