Package: SamSPECTRAL Version: 1.60.0 Command: /Library/Frameworks/R.framework/Resources/bin/R CMD build --keep-empty-dirs --no-resave-data SamSPECTRAL StartedAt: 2025-01-31 07:00:58 -0500 (Fri, 31 Jan 2025) EndedAt: 2025-01-31 07:02:28 -0500 (Fri, 31 Jan 2025) EllapsedTime: 90.9 seconds RetCode: 0 Status: OK PackageFile: SamSPECTRAL_1.60.0.tar.gz PackageFileSize: 936.6 KiB