Package: STRINGdb Version: 2.18.0 Command: /home/biocbuild/R/R/bin/R CMD check --install=check:STRINGdb.install-out.txt --library=/home/biocbuild/R/R/site-library --no-vignettes --timings STRINGdb_2.18.0.tar.gz StartedAt: 2025-01-31 10:50:05 -0000 (Fri, 31 Jan 2025) EndedAt: 2025-01-31 10:56:35 -0000 (Fri, 31 Jan 2025) EllapsedTime: 390.5 seconds RetCode: 0 Status: OK CheckDir: STRINGdb.Rcheck Warnings: 0