Package: STRINGdb Version: 2.18.0 Command: /home/biocbuild/R/R/bin/R CMD build --keep-empty-dirs --no-resave-data STRINGdb StartedAt: 2025-01-31 03:01:14 -0000 (Fri, 31 Jan 2025) EndedAt: 2025-01-31 03:06:54 -0000 (Fri, 31 Jan 2025) EllapsedTime: 340.2 seconds RetCode: 0 Status: OK PackageFile: STRINGdb_2.18.0.tar.gz PackageFileSize: 9.943 MiB