Package: SQLDataFrame Version: 1.20.0 Command: /Library/Frameworks/R.framework/Resources/bin/R CMD INSTALL SQLDataFrame StartedAt: 2025-01-30 15:39:42 -0500 (Thu, 30 Jan 2025) EndedAt: 2025-01-30 15:40:02 -0500 (Thu, 30 Jan 2025) EllapsedTime: 19.7 seconds RetCode: 0 Status: OK