Package: SPOTlight Version: 1.10.0 Command: /home/biocbuild/R/R/bin/R CMD build --keep-empty-dirs --no-resave-data SPOTlight StartedAt: 2025-01-31 02:57:43 -0000 (Fri, 31 Jan 2025) EndedAt: 2025-01-31 03:01:03 -0000 (Fri, 31 Jan 2025) EllapsedTime: 200.1 seconds RetCode: 0 Status: OK PackageFile: SPOTlight_1.10.0.tar.gz PackageFileSize: 2.106 MiB