Package: SPOTlight Version: 1.10.0 Command: /Library/Frameworks/R.framework/Resources/bin/R CMD check --install=check:SPOTlight.install-out.txt --library=/Library/Frameworks/R.framework/Resources/library --no-vignettes --timings SPOTlight_1.10.0.tar.gz StartedAt: 2025-02-01 10:44:07 -0500 (Sat, 01 Feb 2025) EndedAt: 2025-02-01 10:49:44 -0500 (Sat, 01 Feb 2025) EllapsedTime: 337.3 seconds RetCode: 0 Status: OK CheckDir: SPOTlight.Rcheck Warnings: 0