Package: SPLINTER Version: 1.32.0 Command: /home/biocbuild/R/R/bin/R CMD build --keep-empty-dirs --no-resave-data SPLINTER StartedAt: 2025-01-31 02:56:20 -0000 (Fri, 31 Jan 2025) EndedAt: 2025-01-31 02:58:11 -0000 (Fri, 31 Jan 2025) EllapsedTime: 111.1 seconds RetCode: 1 Status: ERROR PackageFile: None PackageFileSize: NA