Package: SOMNiBUS Version: 1.14.2 Command: /home/biocbuild/R/R/bin/R CMD check --install=check:SOMNiBUS.install-out.txt --library=/home/biocbuild/R/R/site-library --no-vignettes --timings SOMNiBUS_1.14.2.tar.gz StartedAt: 2025-01-31 10:36:03 -0000 (Fri, 31 Jan 2025) EndedAt: 2025-01-31 10:49:16 -0000 (Fri, 31 Jan 2025) EllapsedTime: 792.8 seconds RetCode: 0 Status: OK CheckDir: SOMNiBUS.Rcheck Warnings: 0