Package: SOMNiBUS Version: 1.14.2 Command: /Library/Frameworks/R.framework/Resources/bin/R CMD build --keep-empty-dirs --no-resave-data SOMNiBUS StartedAt: 2025-01-31 08:27:32 -0500 (Fri, 31 Jan 2025) EndedAt: 2025-01-31 08:35:01 -0500 (Fri, 31 Jan 2025) EllapsedTime: 448.8 seconds RetCode: 0 Status: OK PackageFile: SOMNiBUS_1.14.2.tar.gz PackageFileSize: 1.029 MiB