Package: SNPhood Version: 1.36.0 Command: /home/biocbuild/R/R/bin/R CMD check --install=check:SNPhood.install-out.txt --library=/home/biocbuild/R/R/site-library --no-vignettes --timings SNPhood_1.36.0.tar.gz StartedAt: 2025-01-31 10:34:25 -0000 (Fri, 31 Jan 2025) EndedAt: 2025-01-31 10:45:50 -0000 (Fri, 31 Jan 2025) EllapsedTime: 685.6 seconds RetCode: 0 Status: OK CheckDir: SNPhood.Rcheck Warnings: 0