Package: SNPhood Version: 1.36.0 Command: /home/biocbuild/R/R/bin/R CMD build --keep-empty-dirs --no-resave-data SNPhood StartedAt: 2025-01-31 02:50:12 -0000 (Fri, 31 Jan 2025) EndedAt: 2025-01-31 02:55:37 -0000 (Fri, 31 Jan 2025) EllapsedTime: 324.2 seconds RetCode: 0 Status: OK PackageFile: SNPhood_1.36.0.tar.gz PackageFileSize: 5.392 MiB