Package: SNPediaR Version: 1.32.0 Command: /Library/Frameworks/R.framework/Resources/bin/R CMD check --install=check:SNPediaR.install-out.txt --library=/Library/Frameworks/R.framework/Resources/library --no-vignettes --timings SNPediaR_1.32.0.tar.gz StartedAt: 2025-01-31 10:20:48 -0500 (Fri, 31 Jan 2025) EndedAt: 2025-01-31 10:21:38 -0500 (Fri, 31 Jan 2025) EllapsedTime: 49.5 seconds RetCode: 0 Status: OK CheckDir: SNPediaR.Rcheck Warnings: 0