Package: SNPediaR Version: 1.32.0 Command: /Library/Frameworks/R.framework/Resources/bin/R CMD INSTALL SNPediaR StartedAt: 2025-01-30 15:17:25 -0500 (Thu, 30 Jan 2025) EndedAt: 2025-01-30 15:17:30 -0500 (Thu, 30 Jan 2025) EllapsedTime: 4.9 seconds RetCode: 0 Status: OK