Package: SMAD Version: 1.22.0 Command: /home/biocbuild/R/R/bin/R CMD check --install=check:SMAD.install-out.txt --library=/home/biocbuild/R/R/site-library --no-vignettes --timings SMAD_1.22.0.tar.gz StartedAt: 2025-01-31 10:32:50 -0000 (Fri, 31 Jan 2025) EndedAt: 2025-01-31 10:33:46 -0000 (Fri, 31 Jan 2025) EllapsedTime: 56.0 seconds RetCode: 0 Status: WARNINGS CheckDir: SMAD.Rcheck Warnings: 4