Package: SGSeq Version: 1.40.0 Command: F:\biocbuild\bbs-3.20-bioc\R\bin\R.exe CMD INSTALL SGSeq StartedAt: 2025-01-30 16:07:58 -0500 (Thu, 30 Jan 2025) EndedAt: 2025-01-30 16:09:33 -0500 (Thu, 30 Jan 2025) EllapsedTime: 95.3 seconds RetCode: 0 Status: OK