Package: SGSeq Version: 1.40.0 Command: /home/biocbuild/bbs-3.20-bioc/R/bin/R CMD INSTALL SGSeq StartedAt: 2025-01-30 15:19:57 -0500 (Thu, 30 Jan 2025) EndedAt: 2025-01-30 15:20:37 -0500 (Thu, 30 Jan 2025) EllapsedTime: 39.7 seconds RetCode: 0 Status: OK