Package: SGSeq Version: 1.40.0 Command: /home/biocbuild/bbs-3.20-bioc/R/bin/R CMD build --keep-empty-dirs --no-resave-data --md5 SGSeq StartedAt: 2025-01-30 19:09:36 -0500 (Thu, 30 Jan 2025) EndedAt: 2025-01-30 19:12:21 -0500 (Thu, 30 Jan 2025) EllapsedTime: 165.2 seconds RetCode: 0 Status: OK PackageFile: SGSeq_1.40.0.tar.gz PackageFileSize: 1.738 MiB