Package: SGSeq Version: 1.40.0 Command: /Library/Frameworks/R.framework/Resources/bin/R CMD INSTALL SGSeq StartedAt: 2025-01-30 15:37:38 -0500 (Thu, 30 Jan 2025) EndedAt: 2025-01-30 15:39:09 -0500 (Thu, 30 Jan 2025) EllapsedTime: 91.0 seconds RetCode: 0 Status: OK