Package: SGSeq Version: 1.40.0 Command: rm -rf SGSeq.buildbin-libdir && mkdir SGSeq.buildbin-libdir && /Users/biocbuild/BBS/utils/build-universal.sh SGSeq_1.40.0.tar.gz /Library/Frameworks/R.framework/Resources/bin/R SGSeq.buildbin-libdir StartedAt: 2025-01-31 13:42:20 -0500 (Fri, 31 Jan 2025) EndedAt: 2025-01-31 13:43:54 -0500 (Fri, 31 Jan 2025) EllapsedTime: 93.5 seconds RetCode: 0 Status: OK PackageFile: SGSeq_1.40.0.tgz PackageFileSize: 1.775 MiB