Package: SGSeq Version: 1.40.0 Command: /Library/Frameworks/R.framework/Resources/bin/R CMD build --keep-empty-dirs --no-resave-data SGSeq StartedAt: 2025-01-31 08:00:02 -0500 (Fri, 31 Jan 2025) EndedAt: 2025-01-31 08:03:22 -0500 (Fri, 31 Jan 2025) EllapsedTime: 199.9 seconds RetCode: 0 Status: OK PackageFile: SGSeq_1.40.0.tar.gz PackageFileSize: 1.747 MiB