Package: SGCP Version: 1.6.0 Command: rm -rf SGCP.buildbin-libdir && mkdir SGCP.buildbin-libdir && /Users/biocbuild/BBS/utils/build-universal.sh SGCP_1.6.0.tar.gz /Library/Frameworks/R.framework/Resources/bin/R SGCP.buildbin-libdir StartedAt: 2025-01-31 13:42:15 -0500 (Fri, 31 Jan 2025) EndedAt: 2025-01-31 13:44:08 -0500 (Fri, 31 Jan 2025) EllapsedTime: 113.0 seconds RetCode: 0 Status: OK PackageFile: SGCP_1.6.0.tgz PackageFileSize: 4.096 MiB