Package: SELEX Version: 1.38.0 Command: /home/biocbuild/R/R/bin/R CMD build --keep-empty-dirs --no-resave-data SELEX StartedAt: 2025-01-31 02:38:41 -0000 (Fri, 31 Jan 2025) EndedAt: 2025-01-31 02:39:09 -0000 (Fri, 31 Jan 2025) EllapsedTime: 28.0 seconds RetCode: 0 Status: OK PackageFile: SELEX_1.38.0.tar.gz PackageFileSize: 4.026 MiB