Package: SDAMS Version: 1.26.0 Command: /home/biocbuild/R/R/bin/R CMD build --keep-empty-dirs --no-resave-data SDAMS StartedAt: 2025-01-31 02:37:27 -0000 (Fri, 31 Jan 2025) EndedAt: 2025-01-31 02:38:28 -0000 (Fri, 31 Jan 2025) EllapsedTime: 61.1 seconds RetCode: 0 Status: OK PackageFile: SDAMS_1.26.0.tar.gz PackageFileSize: 1.269 MiB