Package: SCnorm Version: 1.28.0 Command: /home/biocbuild/R/R/bin/R CMD INSTALL SCnorm StartedAt: 2025-01-30 20:50:07 -0000 (Thu, 30 Jan 2025) EndedAt: 2025-01-30 20:50:39 -0000 (Thu, 30 Jan 2025) EllapsedTime: 32.5 seconds RetCode: 0 Status: OK