Package: SCnorm Version: 1.28.0 Command: /home/biocbuild/R/R/bin/R CMD build --keep-empty-dirs --no-resave-data SCnorm StartedAt: 2025-01-31 02:31:20 -0000 (Fri, 31 Jan 2025) EndedAt: 2025-01-31 02:33:37 -0000 (Fri, 31 Jan 2025) EllapsedTime: 137.1 seconds RetCode: 0 Status: OK PackageFile: SCnorm_1.28.0.tar.gz PackageFileSize: 2.966 MiB